BEGIN:VCALENDAR
VERSION:2.0
PRODID:spatie/icalendar-generator
DESCRIPTION:Events from Purpose First
X-WR-CALDESC:Events from Purpose First
REFRESH-INTERVAL;VALUE=DURATION:PT1440M
X-PUBLISHED-TTL:PT1440M
BEGIN:VTIMEZONE
TZID:Etc/GMT+0
BEGIN:STANDARD
DTSTART:20250708T160000Z
TZOFFSETFROM:+0000
TZOFFSETTO:+0000
END:STANDARD
END:VTIMEZONE
BEGIN:VTIMEZONE
TZID:UTC
BEGIN:STANDARD
DTSTART:20250727T115017Z
TZOFFSETFROM:+0000
TZOFFSETTO:+0000
END:STANDARD
END:VTIMEZONE
BEGIN:VEVENT
UID:184-7
DTSTAMP:20260423T115017Z
SUMMARY:Beach Cleanup
LOCATION:WaterBar 4325 Ocean Blvd.  San Diego CA 92109
ORGANIZER;CN=PacConAdmin:MAILTO:andrew@pfcleanup.org
RRULE:FREQ=MONTHLY;BYDAY=1SA;UNTIL=20300907T000000Z
DTSTART;TZID=Etc/GMT+0:20260404T160000
DTEND;TZID=Etc/GMT+0:20260404T190000
X-ALT-DESC;FMTTYPE=TEXT/HTML:
CATEGORIES:General
URL;VALUE=URI:https://pfcleanup.org/mc-events/beach-cleanup/?mc_id=184
METHOD:PUBLISH
END:VEVENT
END:VCALENDAR